BEGIN:VCALENDAR
VERSION:2.0
PRODID:-//psnri.org//NONSGML kigkonsult.se iCalcreator 2.30.10//
CALSCALE:GREGORIAN
METHOD:PUBLISH
UID:a12f894d-6802-4ecb-b529-76d7dd26b425
X-WR-CALDESC:passcode 654912
X-WR-RELCALID:883d33f7729eb37a5ea34e25ef07dca9
X-WR-TIMEZONE:America/New_York
BEGIN:VTIMEZONE
TZID:America/New_York
BEGIN:STANDARD
TZNAME:EST
DTSTART:20241103T020000
TZOFFSETFROM:-0400
TZOFFSETTO:-0500
RDATE:20251102T020000
END:STANDARD
BEGIN:DAYLIGHT
TZNAME:EDT
DTSTART:20240310T020000
TZOFFSETFROM:-0500
TZOFFSETTO:-0400
RDATE:20250309T020000
RDATE:20260308T020000
END:DAYLIGHT
END:VTIMEZONE
BEGIN:VEVENT
UID:d0d30a63-8260-4458-adcb-e40a67f91730
DTSTAMP:20260421T085829Z
DESCRIPTION:passcode 654912
DTSTART;TZID=America/New_York:20250107T190000
DTEND;TZID=America/New_York:20250107T203000
LOCATION:https://us06web.zoom.us/j/82485964581?pwd=FuTBlkns2zpTrVs2Iy6nxPJA
 8AwZrJ.1#success
SUMMARY:VIRTUAL: Circle of Parents group
END:VEVENT
END:VCALENDAR
