BEGIN:VCALENDAR
VERSION:2.0
PRODID:-//psnri.org//NONSGML kigkonsult.se iCalcreator 2.30.10//
CALSCALE:GREGORIAN
METHOD:PUBLISH
UID:9e4573d6-088c-4dc4-a976-d0b23e73ec6a
X-WR-CALDESC:Onsite children's activities and transportation can be coordin
 ated if you pre-register. \n\nThis is a free Circle of Parents group in co
 llaboration with Child & Family.
X-WR-RELCALID:923704bb02fdcb68e167a45bc5d4e940
X-WR-TIMEZONE:America/New_York
BEGIN:VTIMEZONE
TZID:America/New_York
BEGIN:STANDARD
TZNAME:EST
DTSTART:20281105T020000
TZOFFSETFROM:-0400
TZOFFSETTO:-0500
RDATE:20291104T020000
END:STANDARD
BEGIN:DAYLIGHT
TZNAME:EDT
DTSTART:20280312T020000
TZOFFSETFROM:-0500
TZOFFSETTO:-0400
RDATE:20290311T020000
RDATE:20300310T020000
END:DAYLIGHT
END:VTIMEZONE
BEGIN:VEVENT
UID:bb36bea7-893d-4691-9e56-99f93f54c7a7
DTSTAMP:20260419T210900Z
DESCRIPTION:Onsite children's activities and transportation can be coordina
 ted if you pre-register. \n\nThis is a free Circle of Parents group in col
 laboration with Child & Family.
DTSTART;TZID=America/New_York:20290124T173000
DTEND;TZID=America/New_York:20290124T190000
LOCATION:333 Centerville Rd\, Warwick\, RI 02886 US
SUMMARY:Father 2 Father Group
END:VEVENT
END:VCALENDAR
