BEGIN:VCALENDAR
VERSION:2.0
PRODID:-//psnri.org//NONSGML kigkonsult.se iCalcreator 2.30.10//
CALSCALE:GREGORIAN
METHOD:PUBLISH
UID:eafc37b0-6c82-45a1-99e2-643e6e4724df
X-WR-CALDESC:An empowering group for young people ages 13-18 to share their
  lived experience and ideas on how to improve mental health services in Rh
 ode Island - help change the system!\n\nParent permission required. Contac
 t Robin to join the group.
X-WR-RELCALID:f92feb1067ce94ff77521fe1430871ee
X-WR-TIMEZONE:America/New_York
BEGIN:VTIMEZONE
TZID:America/New_York
BEGIN:STANDARD
TZNAME:EST
DTSTART:20281105T020000
TZOFFSETFROM:-0400
TZOFFSETTO:-0500
RDATE:20291104T020000
END:STANDARD
BEGIN:DAYLIGHT
TZNAME:EDT
DTSTART:20280312T020000
TZOFFSETFROM:-0500
TZOFFSETTO:-0400
RDATE:20290311T020000
RDATE:20300310T020000
END:DAYLIGHT
END:VTIMEZONE
BEGIN:VEVENT
UID:3cb49ecd-8d0a-4052-b197-acce1b4b1d0c
DTSTAMP:20260420T060215Z
DESCRIPTION:An empowering group for young people ages 13-18 to share their 
 lived experience and ideas on how to improve mental health services in Rho
 de Island - help change the system!\n\nParent permission required. Contact
  Robin to join the group.
DTSTART;TZID=America/New_York:20281221T173000
DTEND;TZID=America/New_York:20281221T190000
LOCATION:333 Centerville Rd\, Warwick\, RI 02886 US
SUMMARY:Youth & Young Adult Workgroup
END:VEVENT
END:VCALENDAR
