BEGIN:VCALENDAR
VERSION:2.0
PRODID:-//psnri.org//NONSGML kigkonsult.se iCalcreator 2.30.10//
CALSCALE:GREGORIAN
METHOD:PUBLISH
UID:f8d98c63-f8a4-4275-9a4d-eaa8ff455f7f
X-WR-CALDESC:Join us for a parent support group to connect with others who 
 share similar experiences. All parents or caregivers of any age child or y
 outh are welcome to attend. No sign-ups needed\, just come and meet others
  who get it. \n\nOnsite children's activities and transportation can be co
 ordinated if you pre-register. \n\nThis is a free Circle of Parents group 
 in collaboration with Child & Family.
X-WR-RELCALID:96702a71eb846875ec45a3cf646ecaa2
X-WR-TIMEZONE:America/New_York
BEGIN:VTIMEZONE
TZID:America/New_York
BEGIN:STANDARD
TZNAME:EST
DTSTART:20281105T020000
TZOFFSETFROM:-0400
TZOFFSETTO:-0500
RDATE:20291104T020000
END:STANDARD
BEGIN:DAYLIGHT
TZNAME:EDT
DTSTART:20280312T020000
TZOFFSETFROM:-0500
TZOFFSETTO:-0400
RDATE:20290311T020000
RDATE:20300310T020000
END:DAYLIGHT
END:VTIMEZONE
BEGIN:VEVENT
UID:f4eb499b-c129-47e5-8f99-a7337a9a131a
DTSTAMP:20260420T060426Z
DESCRIPTION:Join us for a parent support group to connect with others who s
 hare similar experiences. All parents or caregivers of any age child or yo
 uth are welcome to attend. No sign-ups needed\, just come and meet others 
 who get it. \n\nOnsite children's activities and transportation can be coo
 rdinated if you pre-register. \n\nThis is a free Circle of Parents group i
 n collaboration with Child & Family.
DTSTART;TZID=America/New_York:20281221T173000
DTEND;TZID=America/New_York:20281221T190000
LOCATION:333 Centerville Rd\, Warwick\, RI 02886 US
SUMMARY:Parent Support Group
END:VEVENT
END:VCALENDAR
