BEGIN:VCALENDAR
VERSION:2.0
PRODID:-//psnri.org//NONSGML kigkonsult.se iCalcreator 2.30.10//
CALSCALE:GREGORIAN
METHOD:PUBLISH
UID:5e5b4b30-9828-4728-b9f7-290bf2fd1664
X-WR-CALDESC:An empowering group for young people ages 13-18 to share their
  lived experience and ideas on how to improve mental health services in Rh
 ode Island - help change the system!\n\nParent permission required. Contac
 t Robin to join the group.
X-WR-RELCALID:0181d61b77979f91671a1f27c0b7b7c0
X-WR-TIMEZONE:America/New_York
BEGIN:VTIMEZONE
TZID:America/New_York
BEGIN:STANDARD
TZNAME:EST
DTSTART:20271107T020000
TZOFFSETFROM:-0400
TZOFFSETTO:-0500
RDATE:20281105T020000
RDATE:20291104T020000
END:STANDARD
BEGIN:DAYLIGHT
TZNAME:EDT
DTSTART:20280312T020000
TZOFFSETFROM:-0500
TZOFFSETTO:-0400
RDATE:20290311T020000
END:DAYLIGHT
END:VTIMEZONE
BEGIN:VEVENT
UID:8a1a9c03-62f9-400a-ae6e-b524fb27eba5
DTSTAMP:20260424T214234Z
DESCRIPTION:An empowering group for young people ages 13-18 to share their 
 lived experience and ideas on how to improve mental health services in Rho
 de Island - help change the system!\n\nParent permission required. Contact
  Robin to join the group.
DTSTART;TZID=America/New_York:20280817T173000
DTEND;TZID=America/New_York:20280817T190000
LOCATION:333 Centerville Rd\, Warwick\, RI 02886 US
SUMMARY:Youth & Young Adult Workgroup
END:VEVENT
END:VCALENDAR
