BEGIN:VCALENDAR
VERSION:2.0
PRODID:-//psnri.org//NONSGML kigkonsult.se iCalcreator 2.30.10//
CALSCALE:GREGORIAN
METHOD:PUBLISH
UID:06433bb2-ecfa-4678-ad33-4897f1fa6da7
X-WR-CALDESC:Join us for a parent support group to connect with others who 
 share similar experiences. All parents or caregivers of any age child or y
 outh are welcome to attend. No sign-ups needed\, just come and meet others
  who get it. \n\nOnsite children's activities and transportation can be co
 ordinated if you pre-register. \n\nThis is a free Circle of Parents group 
 in collaboration with Child & Family.
X-WR-RELCALID:47178ded1ee7929b6d57e416b23f5316
X-WR-TIMEZONE:America/New_York
BEGIN:VTIMEZONE
TZID:America/New_York
BEGIN:STANDARD
TZNAME:EST
DTSTART:20271107T020000
TZOFFSETFROM:-0400
TZOFFSETTO:-0500
RDATE:20281105T020000
END:STANDARD
BEGIN:DAYLIGHT
TZNAME:EDT
DTSTART:20270314T020000
TZOFFSETFROM:-0500
TZOFFSETTO:-0400
RDATE:20280312T020000
RDATE:20290311T020000
END:DAYLIGHT
END:VTIMEZONE
BEGIN:VEVENT
UID:cadf10ca-2a68-431e-b428-7e3c8bb5f308
DTSTAMP:20260424T113251Z
DESCRIPTION:Join us for a parent support group to connect with others who s
 hare similar experiences. All parents or caregivers of any age child or yo
 uth are welcome to attend. No sign-ups needed\, just come and meet others 
 who get it. \n\nOnsite children's activities and transportation can be coo
 rdinated if you pre-register. \n\nThis is a free Circle of Parents group i
 n collaboration with Child & Family.
DTSTART;TZID=America/New_York:20280217T173000
DTEND;TZID=America/New_York:20280217T190000
LOCATION:333 Centerville Rd\, Warwick\, RI 02886 US
SUMMARY:Parent Support Group
END:VEVENT
END:VCALENDAR
