BEGIN:VCALENDAR
VERSION:2.0
PRODID:-//psnri.org//NONSGML kigkonsult.se iCalcreator 2.30.10//
CALSCALE:GREGORIAN
METHOD:PUBLISH
UID:4213669e-4121-4e1d-96b4-bceaeecabf83
X-WR-CALDESC:Birth Parents who have been involved with child welfare — both
  closed and unresolved cases are welcome.\n\nAttend First Thursday monthly
  meetings to give input and participate in time-limited workgroups and sub
 committees.
X-WR-RELCALID:faf2bb3cca02a967f404222ee84e2f62
X-WR-TIMEZONE:America/New_York
BEGIN:VTIMEZONE
TZID:America/New_York
BEGIN:STANDARD
TZNAME:EST
DTSTART:20271107T020000
TZOFFSETFROM:-0400
TZOFFSETTO:-0500
RDATE:20281105T020000
END:STANDARD
BEGIN:DAYLIGHT
TZNAME:EDT
DTSTART:20270314T020000
TZOFFSETFROM:-0500
TZOFFSETTO:-0400
RDATE:20280312T020000
RDATE:20290311T020000
END:DAYLIGHT
END:VTIMEZONE
BEGIN:VEVENT
UID:707d1444-1cf7-4962-a21e-b6d1c2d0f9b0
DTSTAMP:20260424T112931Z
DESCRIPTION:Birth Parents who have been involved with child welfare — both 
 closed and unresolved cases are welcome.\n\nAttend First Thursday monthly 
 meetings to give input and participate in time-limited workgroups and subc
 ommittees.
DTSTART;TZID=America/New_York:20280203T183000
DTEND;TZID=America/New_York:20280203T193000
LOCATION:333 Centerville Rd\, Warwick\, RI 02886 US
SUMMARY:RI Birth Parent Advisory Board Meeting
END:VEVENT
END:VCALENDAR
