BEGIN:VCALENDAR
VERSION:2.0
PRODID:-//psnri.org//NONSGML kigkonsult.se iCalcreator 2.30.10//
CALSCALE:GREGORIAN
METHOD:PUBLISH
UID:240da81e-6197-45b3-91d1-f7c4135c290a
X-WR-CALDESC:Onsite children's activities and transportation can be coordin
 ated if you pre-register. \n\nThis is a free Circle of Parents group in co
 llaboration with Child & Family.
X-WR-RELCALID:fb1cf642a45ddf5ccfb7fcbdeeaa8472
X-WR-TIMEZONE:America/New_York
BEGIN:VTIMEZONE
TZID:America/New_York
BEGIN:STANDARD
TZNAME:EST
DTSTART:20271107T020000
TZOFFSETFROM:-0400
TZOFFSETTO:-0500
RDATE:20281105T020000
END:STANDARD
BEGIN:DAYLIGHT
TZNAME:EDT
DTSTART:20270314T020000
TZOFFSETFROM:-0500
TZOFFSETTO:-0400
RDATE:20280312T020000
RDATE:20290311T020000
END:DAYLIGHT
END:VTIMEZONE
BEGIN:VEVENT
UID:6cd03311-66d6-4b1e-bf23-8dccd868308c
DTSTAMP:20260424T100137Z
DESCRIPTION:Onsite children's activities and transportation can be coordina
 ted if you pre-register. \n\nThis is a free Circle of Parents group in col
 laboration with Child & Family.
DTSTART;TZID=America/New_York:20280112T173000
DTEND;TZID=America/New_York:20280112T190000
LOCATION:333 Centerville Rd\, Warwick\, RI 02886 US
SUMMARY:Father 2 Father Group
END:VEVENT
END:VCALENDAR
