BEGIN:VCALENDAR
VERSION:2.0
PRODID:-//psnri.org//NONSGML kigkonsult.se iCalcreator 2.30.10//
CALSCALE:GREGORIAN
METHOD:PUBLISH
UID:968bbda6-d54d-4572-bc0f-562cf4dbcfc7
X-WR-CALDESC:An empowering group for young people ages 13-18 to share their
  lived experience and ideas on how to improve mental health services in Rh
 ode Island - help change the system!\n\nParent permission required. Contac
 t Robin to join the group.
X-WR-RELCALID:0d2f2a2d2409d00e74f84d2cc4e97dba
X-WR-TIMEZONE:America/New_York
BEGIN:VTIMEZONE
TZID:America/New_York
BEGIN:STANDARD
TZNAME:EST
DTSTART:20271107T020000
TZOFFSETFROM:-0400
TZOFFSETTO:-0500
RDATE:20281105T020000
END:STANDARD
BEGIN:DAYLIGHT
TZNAME:EDT
DTSTART:20270314T020000
TZOFFSETFROM:-0500
TZOFFSETTO:-0400
RDATE:20280312T020000
RDATE:20290311T020000
END:DAYLIGHT
END:VTIMEZONE
BEGIN:VEVENT
UID:aab86595-e79f-4b5d-bd8c-d679e6c58e83
DTSTAMP:20260424T055348Z
DESCRIPTION:An empowering group for young people ages 13-18 to share their 
 lived experience and ideas on how to improve mental health services in Rho
 de Island - help change the system!\n\nParent permission required. Contact
  Robin to join the group.
DTSTART;TZID=America/New_York:20271118T173000
DTEND;TZID=America/New_York:20271118T190000
LOCATION:333 Centerville Rd\, Warwick\, RI 02886 US
SUMMARY:Youth & Young Adult Workgroup
END:VEVENT
END:VCALENDAR
