BEGIN:VCALENDAR
VERSION:2.0
PRODID:-//psnri.org//NONSGML kigkonsult.se iCalcreator 2.30.10//
CALSCALE:GREGORIAN
METHOD:PUBLISH
UID:b8b01498-794b-41eb-91a8-4005c53dbf21
X-WR-CALDESC:Find Support & Resources with other Birth Parents.\n\nFREE. No
  sign-ups needed\, just come and meet others who get it.\n\nOnsite childre
 n's activities and transportation can be coordinated if you pre-register.
X-WR-RELCALID:cf1ffd6c84a2192da876d33d4c9cd706
X-WR-TIMEZONE:America/New_York
BEGIN:VTIMEZONE
TZID:America/New_York
BEGIN:STANDARD
TZNAME:EST
DTSTART:20261101T020000
TZOFFSETFROM:-0400
TZOFFSETTO:-0500
RDATE:20271107T020000
RDATE:20281105T020000
END:STANDARD
BEGIN:DAYLIGHT
TZNAME:EDT
DTSTART:20270314T020000
TZOFFSETFROM:-0500
TZOFFSETTO:-0400
RDATE:20280312T020000
END:DAYLIGHT
END:VTIMEZONE
BEGIN:VEVENT
UID:2860db2c-ea77-458b-94e1-5e82ba35e2f1
DTSTAMP:20260424T022939Z
DESCRIPTION:Find Support & Resources with other Birth Parents.\n\nFREE. No 
 sign-ups needed\, just come and meet others who get it.\n\nOnsite children
 's activities and transportation can be coordinated if you pre-register.
DTSTART;TZID=America/New_York:20270902T173000
DTEND;TZID=America/New_York:20270902T183000
LOCATION:333 Centerville Rd\, Warwick\, RI 02886 US
SUMMARY:Birth Parent Support Group
END:VEVENT
END:VCALENDAR
