BEGIN:VCALENDAR
VERSION:2.0
PRODID:-//psnri.org//NONSGML kigkonsult.se iCalcreator 2.30.10//
CALSCALE:GREGORIAN
METHOD:PUBLISH
UID:e5ce037a-0370-4f2c-88b5-9c6bba969277
X-WR-CALDESC:Onsite children's activities and transportation can be coordin
 ated if you pre-register. \n\nThis is a free Circle of Parents group in co
 llaboration with Child & Family.
X-WR-RELCALID:76b1b05d9f1040ef4b6c9995ad27d7af
X-WR-TIMEZONE:America/New_York
BEGIN:VTIMEZONE
TZID:America/New_York
BEGIN:STANDARD
TZNAME:EST
DTSTART:20261101T020000
TZOFFSETFROM:-0400
TZOFFSETTO:-0500
RDATE:20271107T020000
RDATE:20281105T020000
END:STANDARD
BEGIN:DAYLIGHT
TZNAME:EDT
DTSTART:20270314T020000
TZOFFSETFROM:-0500
TZOFFSETTO:-0400
RDATE:20280312T020000
END:DAYLIGHT
END:VTIMEZONE
BEGIN:VEVENT
UID:26829ad8-c0f2-436d-922f-7fc61a00e8eb
DTSTAMP:20260424T004529Z
DESCRIPTION:Onsite children's activities and transportation can be coordina
 ted if you pre-register. \n\nThis is a free Circle of Parents group in col
 laboration with Child & Family.
DTSTART;TZID=America/New_York:20270804T173000
DTEND;TZID=America/New_York:20270804T190000
LOCATION:333 Centerville Rd\, Warwick\, RI 02886 US
SUMMARY:Father 2 Father Group
END:VEVENT
END:VCALENDAR
