BEGIN:VCALENDAR
VERSION:2.0
PRODID:-//psnri.org//NONSGML kigkonsult.se iCalcreator 2.30.10//
CALSCALE:GREGORIAN
METHOD:PUBLISH
UID:394d7b72-343e-4d01-8877-f5d0cce32ce1
X-WR-CALDESC:An empowering group for young people ages 13-18 to share their
  lived experience and ideas on how to improve mental health services in Rh
 ode Island - help change the system!\n\nParent permission required. Contac
 t Robin to join the group.
X-WR-RELCALID:b152a3d84fd62c2ce187487458a3ab75
X-WR-TIMEZONE:America/New_York
BEGIN:VTIMEZONE
TZID:America/New_York
BEGIN:STANDARD
TZNAME:EST
DTSTART:20261101T020000
TZOFFSETFROM:-0400
TZOFFSETTO:-0500
RDATE:20271107T020000
RDATE:20281105T020000
END:STANDARD
BEGIN:DAYLIGHT
TZNAME:EDT
DTSTART:20270314T020000
TZOFFSETFROM:-0500
TZOFFSETTO:-0400
RDATE:20280312T020000
END:DAYLIGHT
END:VTIMEZONE
BEGIN:VEVENT
UID:dba37789-2054-40bd-8bd5-4f7e3308c5f3
DTSTAMP:20260423T225212Z
DESCRIPTION:An empowering group for young people ages 13-18 to share their 
 lived experience and ideas on how to improve mental health services in Rho
 de Island - help change the system!\n\nParent permission required. Contact
  Robin to join the group.
DTSTART;TZID=America/New_York:20270715T173000
DTEND;TZID=America/New_York:20270715T190000
LOCATION:333 Centerville Rd\, Warwick\, RI 02886 US
SUMMARY:Youth & Young Adult Workgroup
END:VEVENT
END:VCALENDAR
