BEGIN:VCALENDAR
VERSION:2.0
PRODID:-//psnri.org//NONSGML kigkonsult.se iCalcreator 2.30.10//
CALSCALE:GREGORIAN
METHOD:PUBLISH
UID:a989af2c-2484-444c-a387-71f056de4011
X-WR-CALDESC:
X-WR-RELCALID:c354e91a05ff2cd8a7a19033dbe19073
X-WR-TIMEZONE:America/New_York
BEGIN:VTIMEZONE
TZID:America/New_York
BEGIN:STANDARD
TZNAME:EST
DTSTART:20261101T020000
TZOFFSETFROM:-0400
TZOFFSETTO:-0500
RDATE:20271107T020000
RDATE:20281105T020000
END:STANDARD
BEGIN:DAYLIGHT
TZNAME:EDT
DTSTART:20270314T020000
TZOFFSETFROM:-0500
TZOFFSETTO:-0400
RDATE:20280312T020000
END:DAYLIGHT
END:VTIMEZONE
BEGIN:VEVENT
UID:0958882b-a67e-474a-83a9-f8d23545be72
DTSTAMP:20260423T213238Z
DESCRIPTION:
DTSTART;TZID=America/New_York:20270619T000000
DTEND;TZID=America/New_York:20270619T235900
LOCATION:
SUMMARY:CLOSED - Juneteenth
END:VEVENT
END:VCALENDAR
