BEGIN:VCALENDAR
VERSION:2.0
PRODID:-//psnri.org//NONSGML kigkonsult.se iCalcreator 2.30.10//
CALSCALE:GREGORIAN
METHOD:PUBLISH
UID:be416a06-4634-4b32-a021-f917cede02c4
X-WR-CALDESC:Find Support & Resources with other Birth Parents.\n\nFREE. No
  sign-ups needed\, just come and meet others who get it.\n\nOnsite childre
 n's activities and transportation can be coordinated if you pre-register.
X-WR-RELCALID:8645b9a8c3004dac20c360d6dbabf1f1
X-WR-TIMEZONE:America/New_York
BEGIN:VTIMEZONE
TZID:America/New_York
BEGIN:STANDARD
TZNAME:EST
DTSTART:20261101T020000
TZOFFSETFROM:-0400
TZOFFSETTO:-0500
RDATE:20271107T020000
RDATE:20281105T020000
END:STANDARD
BEGIN:DAYLIGHT
TZNAME:EDT
DTSTART:20270314T020000
TZOFFSETFROM:-0500
TZOFFSETTO:-0400
RDATE:20280312T020000
END:DAYLIGHT
END:VTIMEZONE
BEGIN:VEVENT
UID:a6a82ad3-995e-4d5e-bb6d-c6dcbdbc34a6
DTSTAMP:20260423T210122Z
DESCRIPTION:Find Support & Resources with other Birth Parents.\n\nFREE. No 
 sign-ups needed\, just come and meet others who get it.\n\nOnsite children
 's activities and transportation can be coordinated if you pre-register.
DTSTART;TZID=America/New_York:20270603T173000
DTEND;TZID=America/New_York:20270603T183000
LOCATION:333 Centerville Rd\, Warwick\, RI 02886 US
SUMMARY:Birth Parent Support Group
END:VEVENT
END:VCALENDAR
