BEGIN:VCALENDAR
VERSION:2.0
PRODID:-//psnri.org//NONSGML kigkonsult.se iCalcreator 2.30.10//
CALSCALE:GREGORIAN
METHOD:PUBLISH
UID:5ab47462-eeb8-458f-81ea-8e0963cf9c26
X-WR-CALDESC:Birth Parents who have been involved with child welfare — both
  closed and unresolved cases are welcome.\n\nAttend First Thursday monthly
  meetings to give input and participate in time-limited workgroups and sub
 committees.
X-WR-RELCALID:3cb9393cdbed538d4cfacbffd55a2043
X-WR-TIMEZONE:America/New_York
BEGIN:VTIMEZONE
TZID:America/New_York
BEGIN:STANDARD
TZNAME:EST
DTSTART:20261101T020000
TZOFFSETFROM:-0400
TZOFFSETTO:-0500
RDATE:20271107T020000
END:STANDARD
BEGIN:DAYLIGHT
TZNAME:EDT
DTSTART:20260308T020000
TZOFFSETFROM:-0500
TZOFFSETTO:-0400
RDATE:20270314T020000
RDATE:20280312T020000
END:DAYLIGHT
END:VTIMEZONE
BEGIN:VEVENT
UID:0d71c8c6-246c-4ab4-9ee4-9eb7981ec2b1
DTSTAMP:20260423T153959Z
DESCRIPTION:Birth Parents who have been involved with child welfare — both 
 closed and unresolved cases are welcome.\n\nAttend First Thursday monthly 
 meetings to give input and participate in time-limited workgroups and subc
 ommittees.
DTSTART;TZID=America/New_York:20270304T183000
DTEND;TZID=America/New_York:20270304T193000
LOCATION:333 Centerville Rd\, Warwick\, RI 02886 US
SUMMARY:RI Birth Parent Advisory Board Meeting
END:VEVENT
END:VCALENDAR
