BEGIN:VCALENDAR
VERSION:2.0
PRODID:-//psnri.org//NONSGML kigkonsult.se iCalcreator 2.30.10//
CALSCALE:GREGORIAN
METHOD:PUBLISH
UID:c3613c93-ccb7-441c-851c-2194ab2602e7
X-WR-CALDESC:Birth Parents who have been involved with child welfare — both
  closed and unresolved cases are welcome.\n\nAttend First Thursday monthly
  meetings to give input and participate in time-limited workgroups and sub
 committees.
X-WR-RELCALID:93dc93a59c45d7977954928f23695511
X-WR-TIMEZONE:America/New_York
BEGIN:VTIMEZONE
TZID:America/New_York
BEGIN:STANDARD
TZNAME:EST
DTSTART:20261101T020000
TZOFFSETFROM:-0400
TZOFFSETTO:-0500
RDATE:20271107T020000
END:STANDARD
BEGIN:DAYLIGHT
TZNAME:EDT
DTSTART:20260308T020000
TZOFFSETFROM:-0500
TZOFFSETTO:-0400
RDATE:20270314T020000
RDATE:20280312T020000
END:DAYLIGHT
END:VTIMEZONE
BEGIN:VEVENT
UID:6c828ea6-5ad8-48f0-84be-3188d2929f8c
DTSTAMP:20260423T100818Z
DESCRIPTION:Birth Parents who have been involved with child welfare — both 
 closed and unresolved cases are welcome.\n\nAttend First Thursday monthly 
 meetings to give input and participate in time-limited workgroups and subc
 ommittees.
DTSTART;TZID=America/New_York:20261203T183000
DTEND;TZID=America/New_York:20261203T193000
LOCATION:333 Centerville Rd\, Warwick\, RI 02886 US
SUMMARY:RI Birth Parent Advisory Board Meeting
END:VEVENT
END:VCALENDAR
