BEGIN:VCALENDAR
VERSION:2.0
PRODID:-//psnri.org//NONSGML kigkonsult.se iCalcreator 2.30.10//
CALSCALE:GREGORIAN
METHOD:PUBLISH
UID:f62badd6-504f-47ed-b5b0-cd4773e271eb
X-WR-CALDESC:Join us for a parent support group to connect with others who 
 share similar experiences. All parents or caregivers of any age child or y
 outh are welcome to attend. No sign-ups needed\, just come and meet others
  who get it. \n\nOnsite children's activities and transportation can be co
 ordinated if you pre-register. \n\nThis is a free Circle of Parents group 
 in collaboration with Child & Family.
X-WR-RELCALID:f5b7db22a0d9205e559fc63a09691b75
X-WR-TIMEZONE:America/New_York
BEGIN:VTIMEZONE
TZID:America/New_York
BEGIN:STANDARD
TZNAME:EST
DTSTART:20251102T020000
TZOFFSETFROM:-0400
TZOFFSETTO:-0500
RDATE:20261101T020000
RDATE:20271107T020000
END:STANDARD
BEGIN:DAYLIGHT
TZNAME:EDT
DTSTART:20260308T020000
TZOFFSETFROM:-0500
TZOFFSETTO:-0400
RDATE:20270314T020000
RDATE:20280312T020000
END:DAYLIGHT
END:VTIMEZONE
BEGIN:VEVENT
UID:f23e8acc-ad62-4f43-ae45-2e3ed34d0808
DTSTAMP:20260423T051848Z
DESCRIPTION:Join us for a parent support group to connect with others who s
 hare similar experiences. All parents or caregivers of any age child or yo
 uth are welcome to attend. No sign-ups needed\, just come and meet others 
 who get it. \n\nOnsite children's activities and transportation can be coo
 rdinated if you pre-register. \n\nThis is a free Circle of Parents group i
 n collaboration with Child & Family.
DTSTART;TZID=America/New_York:20260917T173000
DTEND;TZID=America/New_York:20260917T190000
LOCATION:333 Centerville Rd\, Warwick\, RI 02886 US
SUMMARY:Parent Support Group
END:VEVENT
END:VCALENDAR
