BEGIN:VCALENDAR
VERSION:2.0
PRODID:-//psnri.org//NONSGML kigkonsult.se iCalcreator 2.30.10//
CALSCALE:GREGORIAN
METHOD:PUBLISH
UID:df1a55ea-1fc1-413a-b68c-2f7137a23c38
X-WR-CALDESC:Find Support & Resources with other Birth Parents.\n\nFREE. No
  sign-ups needed\, just come and meet others who get it.\n\nOnsite childre
 n's activities and transportation can be coordinated if you pre-register.
X-WR-RELCALID:f279ce7274fcae16b7d71059503cc8ab
X-WR-TIMEZONE:America/New_York
BEGIN:VTIMEZONE
TZID:America/New_York
BEGIN:STANDARD
TZNAME:EST
DTSTART:20251102T020000
TZOFFSETFROM:-0400
TZOFFSETTO:-0500
RDATE:20261101T020000
RDATE:20271107T020000
END:STANDARD
BEGIN:DAYLIGHT
TZNAME:EDT
DTSTART:20260308T020000
TZOFFSETFROM:-0500
TZOFFSETTO:-0400
RDATE:20270314T020000
END:DAYLIGHT
END:VTIMEZONE
BEGIN:VEVENT
UID:651eb48f-32bb-41af-a80c-226c84c0f7ef
DTSTAMP:20260423T025802Z
DESCRIPTION:Find Support & Resources with other Birth Parents.\n\nFREE. No 
 sign-ups needed\, just come and meet others who get it.\n\nOnsite children
 's activities and transportation can be coordinated if you pre-register.
DTSTART;TZID=America/New_York:20260806T173000
DTEND;TZID=America/New_York:20260806T183000
LOCATION:333 Centerville Rd\, Warwick\, RI 02886 US
SUMMARY:Birth Parent Support Group
END:VEVENT
END:VCALENDAR
