BEGIN:VCALENDAR
VERSION:2.0
PRODID:-//psnri.org//NONSGML kigkonsult.se iCalcreator 2.30.10//
CALSCALE:GREGORIAN
METHOD:PUBLISH
UID:926cb11b-78d3-45a8-8393-8bc5c6fa0f86
X-WR-CALDESC:
X-WR-RELCALID:892eac69f01c07e6a00856617bfb5172
X-WR-TIMEZONE:America/New_York
BEGIN:VTIMEZONE
TZID:America/New_York
BEGIN:STANDARD
TZNAME:EST
DTSTART:20251102T020000
TZOFFSETFROM:-0400
TZOFFSETTO:-0500
RDATE:20261101T020000
RDATE:20271107T020000
END:STANDARD
BEGIN:DAYLIGHT
TZNAME:EDT
DTSTART:20260308T020000
TZOFFSETFROM:-0500
TZOFFSETTO:-0400
RDATE:20270314T020000
END:DAYLIGHT
END:VTIMEZONE
BEGIN:VEVENT
UID:5b0b1d13-c6f8-47e3-b08d-9651a0a91a6f
DTSTAMP:20260422T234744Z
DESCRIPTION:
DTSTART;TZID=America/New_York:20260619T000000
DTEND;TZID=America/New_York:20260619T235900
LOCATION:
SUMMARY:CLOSED - Juneteenth
END:VEVENT
END:VCALENDAR
