BEGIN:VCALENDAR
VERSION:2.0
PRODID:-//psnri.org//NONSGML kigkonsult.se iCalcreator 2.30.10//
CALSCALE:GREGORIAN
METHOD:PUBLISH
UID:349d4b5b-527e-4a8f-b526-3dcb9de59bf1
X-WR-CALDESC:Find Support & Resources with other Birth Parents.\n\nFREE. No
  sign-ups needed\, just come and meet others who get it.\n\nOnsite childre
 n's activities and transportation can be coordinated if you pre-register.
X-WR-RELCALID:a478a1aabd0753f8b33a2493c4607281
X-WR-TIMEZONE:America/New_York
BEGIN:VTIMEZONE
TZID:America/New_York
BEGIN:STANDARD
TZNAME:EST
DTSTART:20251102T020000
TZOFFSETFROM:-0400
TZOFFSETTO:-0500
RDATE:20261101T020000
END:STANDARD
BEGIN:DAYLIGHT
TZNAME:EDT
DTSTART:20260308T020000
TZOFFSETFROM:-0500
TZOFFSETTO:-0400
RDATE:20270314T020000
END:DAYLIGHT
END:VTIMEZONE
BEGIN:VEVENT
UID:c4ad0a77-d335-4a63-a85f-5a5ef8b0fce6
DTSTAMP:20260422T224411Z
DESCRIPTION:Find Support & Resources with other Birth Parents.\n\nFREE. No 
 sign-ups needed\, just come and meet others who get it.\n\nOnsite children
 's activities and transportation can be coordinated if you pre-register.
DTSTART;TZID=America/New_York:20260507T173000
DTEND;TZID=America/New_York:20260507T183000
LOCATION:333 Centerville Rd\, Warwick\, RI 02886 US
SUMMARY:Birth Parent Support Group
END:VEVENT
END:VCALENDAR
