BEGIN:VCALENDAR
VERSION:2.0
PRODID:-//psnri.org//NONSGML kigkonsult.se iCalcreator 2.30.10//
CALSCALE:GREGORIAN
METHOD:PUBLISH
UID:c69768a8-492e-4069-bce0-0f4d8c07bdfd
X-WR-CALDESC:An empowering group for young people ages 13-18 to share their
  lived experience and ideas on how to improve mental health services in Rh
 ode Island - help change the system!\n\nParent permission required. Contac
 t Robin to join the group.
X-WR-RELCALID:35634df8c9337b1688c7c0291e5a0d52
X-WR-TIMEZONE:America/New_York
BEGIN:VTIMEZONE
TZID:America/New_York
BEGIN:STANDARD
TZNAME:EST
DTSTART:20251102T020000
TZOFFSETFROM:-0400
TZOFFSETTO:-0500
RDATE:20261101T020000
END:STANDARD
BEGIN:DAYLIGHT
TZNAME:EDT
DTSTART:20260308T020000
TZOFFSETFROM:-0500
TZOFFSETTO:-0400
RDATE:20270314T020000
END:DAYLIGHT
END:VTIMEZONE
BEGIN:VEVENT
UID:2283cbcf-f1e2-46ac-9a2d-907681f78768
DTSTAMP:20260422T221917Z
DESCRIPTION:An empowering group for young people ages 13-18 to share their 
 lived experience and ideas on how to improve mental health services in Rho
 de Island - help change the system!\n\nParent permission required. Contact
  Robin to join the group.
DTSTART;TZID=America/New_York:20260416T173000
DTEND;TZID=America/New_York:20260416T190000
LOCATION:333 Centerville Rd\, Warwick\, RI 02886 US
SUMMARY:Youth & Young Adult Workgroup
END:VEVENT
END:VCALENDAR
