BEGIN:VCALENDAR
VERSION:2.0
PRODID:-//psnri.org//NONSGML kigkonsult.se iCalcreator 2.30.10//
CALSCALE:GREGORIAN
METHOD:PUBLISH
UID:98cc408e-1f79-4fce-956d-b19b99759137
X-WR-CALDESC:Birth Parents who have been involved with child welfare — both
  closed and unresolved cases are welcome.\n\nAttend First Thursday monthly
  meetings to give input and participate in time-limited workgroups and sub
 committees.
X-WR-RELCALID:648e59ed23496c8b6824c9cd039c5fb6
X-WR-TIMEZONE:America/New_York
BEGIN:VTIMEZONE
TZID:America/New_York
BEGIN:STANDARD
TZNAME:EST
DTSTART:20251102T020000
TZOFFSETFROM:-0400
TZOFFSETTO:-0500
RDATE:20261101T020000
END:STANDARD
BEGIN:DAYLIGHT
TZNAME:EDT
DTSTART:20260308T020000
TZOFFSETFROM:-0500
TZOFFSETTO:-0400
RDATE:20270314T020000
END:DAYLIGHT
END:VTIMEZONE
BEGIN:VEVENT
UID:1a269bcc-492e-46d9-a315-0f9d9d9ad695
DTSTAMP:20260422T222136Z
DESCRIPTION:Birth Parents who have been involved with child welfare — both 
 closed and unresolved cases are welcome.\n\nAttend First Thursday monthly 
 meetings to give input and participate in time-limited workgroups and subc
 ommittees.
DTSTART;TZID=America/New_York:20260402T183000
DTEND;TZID=America/New_York:20260402T193000
LOCATION:333 Centerville Rd\, Warwick\, RI 02886 US
SUMMARY:RI Birth Parent Advisory Board Meeting
END:VEVENT
END:VCALENDAR
