BEGIN:VCALENDAR
VERSION:2.0
PRODID:-//psnri.org//NONSGML kigkonsult.se iCalcreator 2.30.10//
CALSCALE:GREGORIAN
METHOD:PUBLISH
UID:aac81e99-4393-45a9-b398-7caf54a3a898
X-WR-CALDESC:Join us for a parent support group to connect with others who 
 share similar experiences. All parents or caregivers of any age child or y
 outh are welcome to attend. No sign-ups needed\, just come and meet others
  who get it. \n\nOnsite children's activities and transportation can be co
 ordinated if you pre-register. \n\nThis is a free Circle of Parents group 
 in collaboration with Child & Family.
X-WR-RELCALID:51bae843b300a710bd11d5ade134365b
X-WR-TIMEZONE:America/New_York
BEGIN:VTIMEZONE
TZID:America/New_York
BEGIN:STANDARD
TZNAME:EST
DTSTART:20251102T020000
TZOFFSETFROM:-0400
TZOFFSETTO:-0500
RDATE:20261101T020000
END:STANDARD
BEGIN:DAYLIGHT
TZNAME:EDT
DTSTART:20260308T020000
TZOFFSETFROM:-0500
TZOFFSETTO:-0400
RDATE:20270314T020000
END:DAYLIGHT
END:VTIMEZONE
BEGIN:VEVENT
UID:1a70d30d-499f-48b8-a2e8-d1672c4cb6d5
DTSTAMP:20260422T215712Z
DESCRIPTION:Join us for a parent support group to connect with others who s
 hare similar experiences. All parents or caregivers of any age child or yo
 uth are welcome to attend. No sign-ups needed\, just come and meet others 
 who get it. \n\nOnsite children's activities and transportation can be coo
 rdinated if you pre-register. \n\nThis is a free Circle of Parents group i
 n collaboration with Child & Family.
DTSTART;TZID=America/New_York:20260319T173000
DTEND;TZID=America/New_York:20260319T190000
LOCATION:333 Centerville Rd\, Warwick\, RI 02886 US
SUMMARY:Parent Support Group
END:VEVENT
END:VCALENDAR
