BEGIN:VCALENDAR
VERSION:2.0
PRODID:-//psnri.org//NONSGML kigkonsult.se iCalcreator 2.30.10//
CALSCALE:GREGORIAN
METHOD:PUBLISH
UID:956bb46e-7d5e-4221-a53f-28da0d5300d0
X-WR-CALDESC:Find Support & Resources with other Birth Parents.\n\nFREE. No
  sign-ups needed\, just come and meet others who get it.\n\nOnsite childre
 n's activities and transportation can be coordinated if you pre-register.
X-WR-RELCALID:49526b7983f3de8e0f21dcae781a9756
X-WR-TIMEZONE:America/New_York
BEGIN:VTIMEZONE
TZID:America/New_York
BEGIN:STANDARD
TZNAME:EST
DTSTART:20251102T020000
TZOFFSETFROM:-0400
TZOFFSETTO:-0500
RDATE:20261101T020000
END:STANDARD
BEGIN:DAYLIGHT
TZNAME:EDT
DTSTART:20250309T020000
TZOFFSETFROM:-0500
TZOFFSETTO:-0400
RDATE:20260308T020000
RDATE:20270314T020000
END:DAYLIGHT
END:VTIMEZONE
BEGIN:VEVENT
UID:3b4236e4-931e-4b40-a54a-56ae8caeef3e
DTSTAMP:20260422T234920Z
DESCRIPTION:Find Support & Resources with other Birth Parents.\n\nFREE. No 
 sign-ups needed\, just come and meet others who get it.\n\nOnsite children
 's activities and transportation can be coordinated if you pre-register.
DTSTART;TZID=America/New_York:20260205T173000
DTEND;TZID=America/New_York:20260205T183000
LOCATION:333 Centerville Rd\, Warwick\, RI 02886 US
SUMMARY:Birth Parent Support Group
END:VEVENT
END:VCALENDAR
