BEGIN:VCALENDAR
VERSION:2.0
PRODID:-//psnri.org//NONSGML kigkonsult.se iCalcreator 2.30.10//
CALSCALE:GREGORIAN
METHOD:PUBLISH
UID:23e4b351-3d60-4437-a5b7-8b1d6b75e450
X-WR-CALDESC:
X-WR-RELCALID:7af16bedfc94f10d89d53f25c0e71cfd
X-WR-TIMEZONE:America/New_York
BEGIN:VTIMEZONE
TZID:America/New_York
BEGIN:STANDARD
TZNAME:EST
DTSTART:20251102T020000
TZOFFSETFROM:-0400
TZOFFSETTO:-0500
RDATE:20261101T020000
END:STANDARD
BEGIN:DAYLIGHT
TZNAME:EDT
DTSTART:20250309T020000
TZOFFSETFROM:-0500
TZOFFSETTO:-0400
RDATE:20260308T020000
RDATE:20270314T020000
END:DAYLIGHT
END:VTIMEZONE
BEGIN:VEVENT
UID:75f80c5a-d89d-4714-87bd-623da2cdfd73
DTSTAMP:20260423T032017Z
DESCRIPTION:
DTSTART;TZID=America/New_York:20251204T183000
DTEND;TZID=America/New_York:20251204T193000
LOCATION:535 Centerville Rd\, Suite 202 (2nd Floor)\, Warwick\, RI 02886 US
SUMMARY:RI Birth Parent Advisory Board Meeting
END:VEVENT
END:VCALENDAR
