BEGIN:VCALENDAR
VERSION:2.0
PRODID:-//psnri.org//NONSGML kigkonsult.se iCalcreator 2.30.10//
CALSCALE:GREGORIAN
METHOD:PUBLISH
UID:21c10a55-13f2-4d52-b2be-f06eac4c69df
X-WR-CALDESC:
X-WR-RELCALID:78774a770433fdab94c05eb9e416b352
X-WR-TIMEZONE:America/New_York
BEGIN:VTIMEZONE
TZID:America/New_York
BEGIN:STANDARD
TZNAME:EST
DTSTART:20251102T020000
TZOFFSETFROM:-0400
TZOFFSETTO:-0500
RDATE:20261101T020000
END:STANDARD
BEGIN:DAYLIGHT
TZNAME:EDT
DTSTART:20250309T020000
TZOFFSETFROM:-0500
TZOFFSETTO:-0400
RDATE:20260308T020000
RDATE:20270314T020000
END:DAYLIGHT
END:VTIMEZONE
BEGIN:VEVENT
UID:884d05f1-af66-41b1-935a-5339edf7d0f5
DTSTAMP:20260423T031340Z
DESCRIPTION:
DTSTART;TZID=America/New_York:20251204T173000
DTEND;TZID=America/New_York:20251204T183000
LOCATION:535 Centerville Rd\, Suite 202 (2nd Floor)\, Warwick\, RI 02886 US
SUMMARY:Birth Parent Support Group
END:VEVENT
END:VCALENDAR
