BEGIN:VCALENDAR
VERSION:2.0
PRODID:-//psnri.org//NONSGML kigkonsult.se iCalcreator 2.30.10//
CALSCALE:GREGORIAN
METHOD:PUBLISH
UID:d1164629-dc53-4f4d-8132-d3254a694205
X-WR-CALDESC:Construir familias fuertes durante tiempos dificiles en el cui
 dado de los ninos en riesgo o con dificultades emocional\, social y salud 
 mental.\n\nTemas:\n-salud y bienestar\n-desarrolar estrategias de afrontam
 iento\n-estrategias para comportamientos en el hogar\n-acceder servicios y
  recursos
X-WR-RELCALID:adea5bc7c75b8c6775f39582559a54ca
X-WR-TIMEZONE:America/New_York
BEGIN:VTIMEZONE
TZID:America/New_York
BEGIN:STANDARD
TZNAME:EST
DTSTART:20211107T020000
TZOFFSETFROM:-0400
TZOFFSETTO:-0500
RDATE:20221106T020000
RDATE:20231105T020000
END:STANDARD
BEGIN:DAYLIGHT
TZNAME:EDT
DTSTART:20220313T020000
TZOFFSETFROM:-0500
TZOFFSETTO:-0400
RDATE:20230312T020000
RDATE:20240310T020000
END:DAYLIGHT
END:VTIMEZONE
BEGIN:VEVENT
UID:5c03a65c-b498-447e-b084-2d55db55f71e
DTSTAMP:20260421T104305Z
DESCRIPTION:Construir familias fuertes durante tiempos dificiles en el cuid
 ado de los ninos en riesgo o con dificultades emocional\, social y salud m
 ental.\n\nTemas:\n-salud y bienestar\n-desarrolar estrategias de afrontami
 ento\n-estrategias para comportamientos en el hogar\n-acceder servicios y 
 recursos
DTSTART;TZID=America/New_York:20221018T180000
DTEND;TZID=America/New_York:20221018T190000
LOCATION:https://us02web.zoom.us/j/82162070610
SUMMARY:Grupo de Apoyo Virtual Para Padres en Español
END:VEVENT
END:VCALENDAR
