BEGIN:VCALENDAR
VERSION:2.0
PRODID:-//psnri.org//NONSGML kigkonsult.se iCalcreator 2.30.10//
CALSCALE:GREGORIAN
METHOD:PUBLISH
UID:c0d21df9-5f19-43dc-8a63-dc08729aa8de
X-WR-CALDESC:Construir familias fuertes durante tiempos dificiles en el cui
 dado de los ninos en riesgo o con dificultades emocional\, social y salud 
 mental.\n\nTemas:\n-salud y bienestar\n-desarrolar estrategias de afrontam
 iento\n-estrategias para comportamientos en el hogar\n-acceder servicios y
  recursos
X-WR-RELCALID:c7e3310d9d2873894c1007b6da88680c
X-WR-TIMEZONE:America/New_York
BEGIN:VTIMEZONE
TZID:America/New_York
BEGIN:STANDARD
TZNAME:EST
DTSTART:20211107T020000
TZOFFSETFROM:-0400
TZOFFSETTO:-0500
RDATE:20221106T020000
RDATE:20231105T020000
END:STANDARD
BEGIN:DAYLIGHT
TZNAME:EDT
DTSTART:20220313T020000
TZOFFSETFROM:-0500
TZOFFSETTO:-0400
RDATE:20230312T020000
RDATE:20240310T020000
END:DAYLIGHT
END:VTIMEZONE
BEGIN:VEVENT
UID:7f42bf8d-2f96-4a32-8100-27c1132a6f8d
DTSTAMP:20260421T085829Z
DESCRIPTION:Construir familias fuertes durante tiempos dificiles en el cuid
 ado de los ninos en riesgo o con dificultades emocional\, social y salud m
 ental.\n\nTemas:\n-salud y bienestar\n-desarrolar estrategias de afrontami
 ento\n-estrategias para comportamientos en el hogar\n-acceder servicios y 
 recursos
DTSTART;TZID=America/New_York:20221004T180000
DTEND;TZID=America/New_York:20221004T190000
LOCATION:https://us02web.zoom.us/j/82162070610
SUMMARY:Grupo de Apoyo Virtual Para Padres en Español
END:VEVENT
END:VCALENDAR
