BEGIN:VCALENDAR
VERSION:2.0
PRODID:-//psnri.org//NONSGML kigkonsult.se iCalcreator 2.30.10//
CALSCALE:GREGORIAN
METHOD:PUBLISH
UID:9016ca47-d65f-48ba-94c0-c1af8eeecee2
X-WR-CALDESC:
X-WR-RELCALID:9eb9b08a72ffe6cfd6509f1a9c1aaa34
X-WR-TIMEZONE:America/New_York
BEGIN:VTIMEZONE
TZID:America/New_York
BEGIN:STANDARD
TZNAME:EST
DTSTART:20201101T020000
TZOFFSETFROM:-0400
TZOFFSETTO:-0500
RDATE:20211107T020000
RDATE:20221106T020000
END:STANDARD
BEGIN:DAYLIGHT
TZNAME:EDT
DTSTART:20210314T020000
TZOFFSETFROM:-0500
TZOFFSETTO:-0400
RDATE:20220313T020000
RDATE:20230312T020000
END:DAYLIGHT
END:VTIMEZONE
BEGIN:VEVENT
UID:e6201238-d2c8-40b7-a7bb-3962ab6d50b0
DTSTAMP:20260420T085429Z
DESCRIPTION:
DTSTART;TZID=America/New_York:20211028T120000
DTEND;TZID=America/New_York:20211028T133000
LOCATION:26 Valley Rd\, Suite 201\, Middletown\, RI 02842 US
SUMMARY:Hope Recovery Middletown In-Person Wellness Art
END:VEVENT
END:VCALENDAR
