BEGIN:VCALENDAR
VERSION:2.0
PRODID:-//psnri.org//NONSGML kigkonsult.se iCalcreator 2.30.10//
CALSCALE:GREGORIAN
METHOD:PUBLISH
UID:1ed0a898-44b2-45a4-8fa3-93bba3f29465
X-WR-CALDESC:
X-WR-RELCALID:6956042a480040e2d0120bb193886943
X-WR-TIMEZONE:America/New_York
BEGIN:VTIMEZONE
TZID:America/New_York
BEGIN:STANDARD
TZNAME:EST
DTSTART:20201101T020000
TZOFFSETFROM:-0400
TZOFFSETTO:-0500
RDATE:20211107T020000
RDATE:20221106T020000
END:STANDARD
BEGIN:DAYLIGHT
TZNAME:EDT
DTSTART:20210314T020000
TZOFFSETFROM:-0500
TZOFFSETTO:-0400
RDATE:20220313T020000
RDATE:20230312T020000
END:DAYLIGHT
END:VTIMEZONE
BEGIN:VEVENT
UID:ffd1d745-359c-4293-b8b8-993033d8d785
DTSTAMP:20260420T124740Z
DESCRIPTION:
DTSTART;TZID=America/New_York:20211023T100000
DTEND;TZID=America/New_York:20211023T140000
LOCATION:2279 Plainfield Pike\, Johnston\, RI 02919 US
SUMMARY:Fall Farm Fun - SOLD OUT
END:VEVENT
END:VCALENDAR
