BEGIN:VCALENDAR
VERSION:2.0
PRODID:-//psnri.org//NONSGML kigkonsult.se iCalcreator 2.30.10//
CALSCALE:GREGORIAN
METHOD:PUBLISH
UID:79d91903-d076-41fc-82ad-1605d122b1ec
X-WR-CALDESC:Construir familias fuertes durante tiempos dificiles en el cui
 dado de los ninos en riesgo o con dificultades emocional\, social y salud 
 mental.\n\nTemas:\n-salud y bienestar\n-desarrolar estrategias de afrontam
 iento\n-estrategias para comportamientos en el hogar\n-acceder servicios y
  recursos
X-WR-RELCALID:cb867cb245feec19edda4bbb3ef09365
X-WR-TIMEZONE:America/New_York
BEGIN:VTIMEZONE
TZID:America/New_York
BEGIN:STANDARD
TZNAME:EST
DTSTART:20201101T020000
TZOFFSETFROM:-0400
TZOFFSETTO:-0500
RDATE:20211107T020000
RDATE:20221106T020000
END:STANDARD
BEGIN:DAYLIGHT
TZNAME:EDT
DTSTART:20210314T020000
TZOFFSETFROM:-0500
TZOFFSETTO:-0400
RDATE:20220313T020000
RDATE:20230312T020000
END:DAYLIGHT
END:VTIMEZONE
BEGIN:VEVENT
UID:3bdbe7f8-d0b4-4ad0-8757-7038931a5ecb
DTSTAMP:20260422T110032Z
DESCRIPTION:Construir familias fuertes durante tiempos dificiles en el cuid
 ado de los ninos en riesgo o con dificultades emocional\, social y salud m
 ental.\n\nTemas:\n-salud y bienestar\n-desarrolar estrategias de afrontami
 ento\n-estrategias para comportamientos en el hogar\n-acceder servicios y 
 recursos
DTSTART;TZID=America/New_York:20210930T173000
DTEND;TZID=America/New_York:20210930T183000
LOCATION:https://us02web.zoom.us/j/88162354238
SUMMARY:Grupo de Apoyo Para Padres en Español
END:VEVENT
END:VCALENDAR
