BEGIN:VCALENDAR
VERSION:2.0
PRODID:-//psnri.org//NONSGML kigkonsult.se iCalcreator 2.30.10//
CALSCALE:GREGORIAN
METHOD:PUBLISH
UID:f1e7efca-bfe6-4091-aa8d-3fa2e9294c66
X-WR-CALDESC:
X-WR-RELCALID:1899157827bf3cbfcdafbcd47b20ece6
X-WR-TIMEZONE:America/New_York
BEGIN:VTIMEZONE
TZID:America/New_York
BEGIN:STANDARD
TZNAME:EST
DTSTART:20201101T020000
TZOFFSETFROM:-0400
TZOFFSETTO:-0500
RDATE:20211107T020000
RDATE:20221106T020000
END:STANDARD
BEGIN:DAYLIGHT
TZNAME:EDT
DTSTART:20210314T020000
TZOFFSETFROM:-0500
TZOFFSETTO:-0400
RDATE:20220313T020000
END:DAYLIGHT
END:VTIMEZONE
BEGIN:VEVENT
UID:4ee5d1b5-37bf-45b2-984f-4bc5d16c4151
DTSTAMP:20260422T110229Z
DESCRIPTION:
DTSTART;TZID=America/New_York:20210902T170000
DTEND;TZID=America/New_York:20210902T190000
LOCATION:https://bit.ly/online-safety-Sep2021-spanish
SUMMARY:Taller Virtual: Seguridad y Prevención en Línea
END:VEVENT
END:VCALENDAR
